BEGIN:VCALENDAR
VERSION:2.0
PRODID:SchoolNow
CALSCALE:GREGORIAN
BEGIN:VEVENT
UID:509017ae-2dfc-11f1-9407-0235a31e1b4b
DTSTAMP:20260422T013511Z
SUMMARY:Day 2
URL;VALUE=URI:https://www.uticaschools.org/schools/kennedy/calendar/8963406
 /day-2
DTSTART;VALUE=DATE:20260417
DTEND;VALUE=DATE:20260418
END:VEVENT
END:VCALENDAR
