BEGIN:VCALENDAR
VERSION:2.0
PRODID:SchoolNow
CALSCALE:GREGORIAN
BEGIN:VEVENT
UID:508ff63e-2dfc-11f1-984a-0235a31e1b4b
DTSTAMP:20260422T013510Z
SUMMARY:Day 1
URL;VALUE=URI:https://www.uticaschools.org/schools/kennedy/calendar/8963403
 /day-1
DTSTART;VALUE=DATE:20260414
DTEND;VALUE=DATE:20260415
END:VEVENT
END:VCALENDAR
