BEGIN:VCALENDAR
VERSION:2.0
PRODID:SchoolNow
CALSCALE:GREGORIAN
BEGIN:VEVENT
UID:fc0e35e2-217d-11f1-8d72-0a58a9feac02
DTSTAMP:20260330T195547Z
SUMMARY:AP English Lang. Exam - JUNIORS
URL;VALUE=URI:https://www.uticaschools.org/departments/guidance-counseling-
 services/calendar/8923032/ap-english-lang-exam-juniors
DTSTART:20260513T120000Z
DTEND:20260513T150000Z
END:VEVENT
END:VCALENDAR
