BEGIN:VCALENDAR
VERSION:2.0
PRODID:SchoolNow
CALSCALE:GREGORIAN
BEGIN:VEVENT
UID:fc0e2ec6-217d-11f1-bf59-0a58a9feac02
DTSTAMP:20260330T195547Z
SUMMARY:AP European History Exam
URL;VALUE=URI:https://www.uticaschools.org/departments/guidance-counseling-
 services/calendar/8923025/ap-european-history-exam
DTSTART:20260504T160000Z
DTEND:20260504T190000Z
END:VEVENT
END:VCALENDAR
