BEGIN:VCALENDAR
VERSION:2.0
PRODID:SchoolNow
CALSCALE:GREGORIAN
BEGIN:VEVENT
UID:2d380294-dd8f-11ef-ba4f-0e956362e35d
DTSTAMP:20250128T154728Z
SUMMARY:Girls Junior Varsity Soccer v. Oneida
LOCATION:PHS Grass Soccer Field
URL;VALUE=URI:https://www.uticaschools.org/departments/athletics/calendar/7
 386072/girls-junior-varsity-soccer-v-oneida
DTSTART:20241015T200000Z
DTEND:20241015T215500Z
END:VEVENT
END:VCALENDAR
